BEGIN:VCALENDAR
VERSION:2.0
PRODID: -//CMS 5.0 //NONSGML //DE
BEGIN:VEVENT
SUMMARY:Gottesdienst mit dem Stammapostel aus Kapstadt [Pfingsten]
DESCRIPTION:Pfingstgottesdienst mit weltweiter Übertragung\n\n\n\nhttps
 ://wittenberge.nak-nordost.de/db/568632
UID:568632@wittenberge.nak-nordost.de
LOCATION:
CATEGORIES:Kirchenbezirk Güstrow (Alle Gemeinden),Kirchenbezirk Güstrow
X-ORGANIZER:
STATUS:CONFIRMED
CLASS:PUBLIC
DTSTART:20260524T080000Z
DTEND:20260524T080000Z
DTSTAMP:20260425T104140Z
CREATED:20251227T160047Z
LAST-MODIFIED:20251227T160204Z
BEGIN:VALARM
UID:57ED0094-4093-11F1-BFA5-AD3D7F372A87
TRIGGER:-PT60M
ACTION:DISPLAY
DESCRIPTION:SUMMARY:Gottesdienst mit dem Stammapostel aus Kapstadt [Pfingsten]
END:VALARM
END:VEVENT
END:VCALENDAR
