BEGIN:VCALENDAR
VERSION:2.0
PRODID: -//CMS 5.0 //NONSGML //DE
BEGIN:VEVENT
SUMMARY:Gottesdienst mit dem Stammapostel aus Oldenburg
DESCRIPTION:Gottesdienst mit Übertragung in den gesamten Arbeitsbereich
 \n\n\n\nhttps://wittenberge.nak-nordost.de/db/568650
UID:568650@wittenberge.nak-nordost.de
LOCATION:
CATEGORIES:Kirchenbezirk Güstrow,Kirchenbezirk Güstrow (Alle Gemeinden)
X-ORGANIZER:
STATUS:CONFIRMED
CLASS:PUBLIC
DTSTART:20260906T080000Z
DTEND:20260906T080000Z
DTSTAMP:20260425T103549Z
CREATED:20251227T160250Z
LAST-MODIFIED:20251227T160250Z
BEGIN:VALARM
UID:86E42374-4092-11F1-A6E5-B63E7F372A87
TRIGGER:-PT60M
ACTION:DISPLAY
DESCRIPTION:SUMMARY:Gottesdienst mit dem Stammapostel aus Oldenburg
END:VALARM
END:VEVENT
END:VCALENDAR
